BEGIN:VCALENDAR
VERSION:2.0
PRODID:-//Capitol Commission - ECPv6.15.13.1//NONSGML v1.0//EN
CALSCALE:GREGORIAN
METHOD:PUBLISH
X-WR-CALNAME:Capitol Commission
X-ORIGINAL-URL:https://capitolcommission.idaho.gov
X-WR-CALDESC:Events for Capitol Commission
REFRESH-INTERVAL;VALUE=DURATION:PT1H
X-Robots-Tag:noindex
X-PUBLISHED-TTL:PT1H
BEGIN:VTIMEZONE
TZID:America/Boise
BEGIN:DAYLIGHT
TZOFFSETFROM:-0700
TZOFFSETTO:-0600
TZNAME:MDT
DTSTART:20250309T090000
END:DAYLIGHT
BEGIN:STANDARD
TZOFFSETFROM:-0600
TZOFFSETTO:-0700
TZNAME:MST
DTSTART:20251102T080000
END:STANDARD
BEGIN:DAYLIGHT
TZOFFSETFROM:-0700
TZOFFSETTO:-0600
TZNAME:MDT
DTSTART:20260308T090000
END:DAYLIGHT
BEGIN:STANDARD
TZOFFSETFROM:-0600
TZOFFSETTO:-0700
TZNAME:MST
DTSTART:20261101T080000
END:STANDARD
BEGIN:DAYLIGHT
TZOFFSETFROM:-0700
TZOFFSETTO:-0600
TZNAME:MDT
DTSTART:20270314T090000
END:DAYLIGHT
BEGIN:STANDARD
TZOFFSETFROM:-0600
TZOFFSETTO:-0700
TZNAME:MST
DTSTART:20271107T080000
END:STANDARD
END:VTIMEZONE
BEGIN:VEVENT
DTSTART;TZID=America/Boise:20260212T140000
DTEND;TZID=America/Boise:20260212T150000
DTSTAMP:20260425T183831
CREATED:20260204T160308Z
LAST-MODIFIED:20260204T160308Z
UID:1850-1770904800-1770908400@capitolcommission.idaho.gov
SUMMARY:Idaho Capitol Commission Meeting
DESCRIPTION:
URL:https://capitolcommission.idaho.gov/event/idaho-capitol-commission-meeting-8/
LOCATION:JRW West Conference Room\, 700 W State Street\, Boise\, Idaho\, 83720
END:VEVENT
END:VCALENDAR