BEGIN:VCALENDAR
VERSION:2.0
PRODID:-//Capitol Commission - ECPv6.15.13.1//NONSGML v1.0//EN
CALSCALE:GREGORIAN
METHOD:PUBLISH
X-WR-CALNAME:Capitol Commission
X-ORIGINAL-URL:https://capitolcommission.idaho.gov
X-WR-CALDESC:Events for Capitol Commission
REFRESH-INTERVAL;VALUE=DURATION:PT1H
X-Robots-Tag:noindex
X-PUBLISHED-TTL:PT1H
BEGIN:VTIMEZONE
TZID:America/Boise
BEGIN:DAYLIGHT
TZOFFSETFROM:-0700
TZOFFSETTO:-0600
TZNAME:MDT
DTSTART:20180311T090000
END:DAYLIGHT
BEGIN:STANDARD
TZOFFSETFROM:-0600
TZOFFSETTO:-0700
TZNAME:MST
DTSTART:20181104T080000
END:STANDARD
BEGIN:DAYLIGHT
TZOFFSETFROM:-0700
TZOFFSETTO:-0600
TZNAME:MDT
DTSTART:20190310T090000
END:DAYLIGHT
BEGIN:STANDARD
TZOFFSETFROM:-0600
TZOFFSETTO:-0700
TZNAME:MST
DTSTART:20191103T080000
END:STANDARD
BEGIN:DAYLIGHT
TZOFFSETFROM:-0700
TZOFFSETTO:-0600
TZNAME:MDT
DTSTART:20200308T090000
END:DAYLIGHT
BEGIN:STANDARD
TZOFFSETFROM:-0600
TZOFFSETTO:-0700
TZNAME:MST
DTSTART:20201101T080000
END:STANDARD
END:VTIMEZONE
BEGIN:VEVENT
DTSTART;TZID=America/Boise:20191209T033000
DTEND;TZID=America/Boise:20191209T170000
DTSTAMP:20260425T193408
CREATED:20191205T160237Z
LAST-MODIFIED:20191205T170930Z
UID:681-1575862200-1575910800@capitolcommission.idaho.gov
SUMMARY:Capitol Commission Meeting
DESCRIPTION:ICC Agenda 12-9-19Download
URL:https://capitolcommission.idaho.gov/event/capitol-commission-meeting/
LOCATION:Idaho
END:VEVENT
END:VCALENDAR